BEGIN:VCALENDAR
VERSION:2.0
PRODID:-//Polo Club Polomar - ECPv4.6.14.1//NONSGML v1.0//EN
CALSCALE:GREGORIAN
METHOD:PUBLISH
X-WR-CALNAME:Polo Club Polomar
X-ORIGINAL-URL:http://poloclub.polomar.com.br
X-WR-CALDESC:Events for Polo Club Polomar
BEGIN:VEVENT
DTSTART;VALUE=DATE:20201031
DTEND;VALUE=DATE:20201103
DTSTAMP:20260425T230353
CREATED:20200224T144646Z
LAST-MODIFIED:20200224T145154Z
UID:2784-1604102400-1604361599@poloclub.polomar.com.br
SUMMARY:Campeonato Bahiano Polo /Hcp. 0-2
DESCRIPTION:Torneio 3 dias\nHcp. 0-2 \n
URL:http://poloclub.polomar.com.br/event/campeonato-bahiano-polo-hcp-0-2/
CATEGORIES:Polo Tournaments
END:VEVENT
END:VCALENDAR