BEGIN:VCALENDAR
VERSION:2.0
PRODID:-//Polo Club Polomar - ECPv4.6.14.1//NONSGML v1.0//EN
CALSCALE:GREGORIAN
METHOD:PUBLISH
X-WR-CALNAME:Polo Club Polomar
X-ORIGINAL-URL:https://poloclub.polomar.com.br
X-WR-CALDESC:Events for Polo Club Polomar
BEGIN:VEVENT
DTSTART;VALUE=DATE:20240329
DTEND;VALUE=DATE:20240401
DTSTAMP:20260421T090528
CREATED:20231114T143049Z
LAST-MODIFIED:20231114T143058Z
UID:2819-1711670400-1711929599@poloclub.polomar.com.br
SUMMARY:TORNEIO DE PÁSCOA 2024
DESCRIPTION:
URL:https://poloclub.polomar.com.br/event/torneio-de-pascoa-2024/
CATEGORIES:Polo Tournaments
END:VEVENT
END:VCALENDAR